BEGIN:VCALENDAR
VERSION:2.0
PRODID:-//DREAM - Diabetes Research Envisioned &amp; Accomplished in Manitoba - ECPv6.15.11//NONSGML v1.0//EN
CALSCALE:GREGORIAN
METHOD:PUBLISH
X-WR-CALNAME:DREAM - Diabetes Research Envisioned &amp; Accomplished in Manitoba
X-ORIGINAL-URL:https://www.dreamdiabetesresearch.com
X-WR-CALDESC:Events for DREAM - Diabetes Research Envisioned &amp; Accomplished in Manitoba
REFRESH-INTERVAL;VALUE=DURATION:PT1H
X-Robots-Tag:noindex
X-PUBLISHED-TTL:PT1H
BEGIN:VTIMEZONE
TZID:America/Winnipeg
BEGIN:DAYLIGHT
TZOFFSETFROM:-0600
TZOFFSETTO:-0500
TZNAME:CDT
DTSTART:20230312T080000
END:DAYLIGHT
BEGIN:STANDARD
TZOFFSETFROM:-0500
TZOFFSETTO:-0600
TZNAME:CST
DTSTART:20231105T070000
END:STANDARD
BEGIN:DAYLIGHT
TZOFFSETFROM:-0600
TZOFFSETTO:-0500
TZNAME:CDT
DTSTART:20240310T080000
END:DAYLIGHT
BEGIN:STANDARD
TZOFFSETFROM:-0500
TZOFFSETTO:-0600
TZNAME:CST
DTSTART:20241103T070000
END:STANDARD
BEGIN:DAYLIGHT
TZOFFSETFROM:-0600
TZOFFSETTO:-0500
TZNAME:CDT
DTSTART:20250309T080000
END:DAYLIGHT
BEGIN:STANDARD
TZOFFSETFROM:-0500
TZOFFSETTO:-0600
TZNAME:CST
DTSTART:20251102T070000
END:STANDARD
END:VTIMEZONE
BEGIN:VEVENT
DTSTART;TZID=America/Winnipeg:20240126T110000
DTEND;TZID=America/Winnipeg:20240126T130000
DTSTAMP:20260425T052039
CREATED:20240124T175142Z
LAST-MODIFIED:20240124T175142Z
UID:1856-1706266800-1706274000@www.dreamdiabetesresearch.com
SUMMARY:Gabfest: Dr. Jim Nagy
DESCRIPTION:The Department of Physiology and Pathophysiology are hosting a brand-new seminar series\, “Gabfest”\, on Friday\, January 26th\, 2024 from 11 a.m.-1 p.m. Followed by a pizza lunch. \n\n\n\n \n\n\n\nRSVP here: RSVP: Gabfest Seminar and Pizza Lunch (office.com) \n\n\n\nGabfest-Series-Dr.-NagyDownload
URL:https://www.dreamdiabetesresearch.com/event/gabfest-dr-jim-nagy/
LOCATION:431 Basic Medical Sciences Building\, 745 Bannatyne Ave\, Winnipeg\, MB\, R3E 0W2\, Canada
CATEGORIES:Gabfest,Presentations
END:VEVENT
END:VCALENDAR